Workbook
Name \4: #REF!
Name \a: #REF!
Name \a: #REF!
Name \a: #REF!
Name \a: #REF!
Name \a: #REF!
Name \a: #REF!
Name \a: #REF!
Name \a: #REF!
Name \a: #REF!
Name \b: #REF!
Name \b: #REF!
Name \b: #REF!
Name \b: #REF!
Name \b: #REF!
Name \b: #REF!
Name \b: #REF!
Name \b: #REF!
Name \b: #REF!
Name \c: #REF!
Name \c: #REF!
Name \c: #REF!
Name \c: #REF!
Name \c: #REF!
Name \c: #REF!
Name \c: #REF!
Name \c: #REF!
Name \c: #REF!
Name \d: #REF!
Name \d: #REF!
Name \d: #REF!
Name \d: #REF!
Name \d: #REF!
Name \d: #REF!
Name \d: #REF!
Name \d: #REF!
Name \d: #REF!
Name \l: #REF!
Name \l: #REF!
Name \l: #REF!
Name \l: #REF!
Name \l: #REF!
Name \l: #REF!
Name \l: #REF!
Name \l: #REF!
Name \l: #REF!
Name \p: #REF!
Name \p: #REF!
Name \p: #REF!
Name \p: #REF!
Name \p: #REF!
Name \p: #REF!
Name \p: #REF!
Name \p: #REF!
Name \p: #REF!
Name \R: #REF!
Name \S: #REF!
Name \V: #REF!
Name \w: #REF!
Name \w: #REF!

Sheet Rate Changes
C1: Note: Rate % adjustments in this tab flow to following tabs to adjust individual charges. | I1: Effective date | J1: 46082 | L1: Final Revenue Requirement | O1: Note: This is where rate changes flow through to Proof of Revenue
C2: Rates in those tabs flow to Proof of Revenue, H-4 Bill Impact and other | L2: Gross Revenue Increase | O2: and feed back to this file to balance the Revenue Requirement to revenues collected.
L3: Other Revenues
C4: Margin | E4: Direct Across the Board Increase | F4: 0.05 | L4: Net Revenue Increase
F5: Note: For reference, not used after Direct Case | N5: Proof of Revenue | O5: Proof of Revenue | P5: CCOSS | Q5: Proof of Revenue | S5: Proof of Revenue
N6: Revenue from | O6: Margin Rev | P6: Class/System | Q6: Proposed
D7: Note: Adjust rates & charges here as % of current. | I7: Average bill imapct | N7: Sales | O7: from Sales | P7: ROR | Q7: Revenue | S7: Adjusted Therms | T7: $/therm
E8: Customer | F8: Delivery | I8: $ | J8: % | M8: Residential | N8: =Summary!N8 -> 83845184 | O8: =Summary!O8 -> 54362763 | P8: 0.066417208 | Q8: =Summary!O8 -> 54362763 | R8: 0 | S8: =Summary!N8 -> 83845184 | T8: =O8/S8 -> 0.64837073
C9: 0.35572871 | D9: Residential | E9: 1.94 | F9: =G16 -> 0.0367 | G9: ROO | H9: GRRES | I9: =GRRES!R20 -> 4.6036111 | J9: =GRRES!S20 -> 0.10307424 | M9: Small Non-Res Service | N9: =Summary!N9 -> 36221648 | O9: =Summary!O9 -> 15860448 | P9: 0.081314683 | Q9: =Summary!O9 -> 15860448 | R9: 0 | S9: =Summary!N9 -> 36221648 | T9: =O9/S9 -> 0.43787208
D10: Small | E10: 8.32 | F10: =G13 -> 0.0297 | H10: GRRESC | I10: =GRRES!R20 -> 4.6036111 | J10: =GRRES!S20 -> 0.10307424 | M10: Large Non-Res Service | N10: =Summary!N10 -> 42588363 | O10: =Summary!O10 -> 7170903.8 | P10: -0.0090874491 | Q10: =Summary!O10 -> 7170903.8 | R10: 0 | S10: =Summary!N10 -> 42588363 | T10: =O10/S10 -> 0.16837707
D11: Large | E11: 60.73 | F11: =G14 -> -0.0484 | H11: GGSVS | I11: =GGSVS!R20 -> 22.335453 | J11: =GGSVS!S20 -> 0.10592916 | M11: TOTAL | N11: =SUM(N8:N10) -> 1.6265519e+08 | O11: =SUM(O8:O10) -> 77394115 | P11: 0.04907368 | Q11: =SUM(Q8:Q10) -> 77394115 | R11: 0 | S11: =SUM(S8:S10) -> 1.6265519e+08 | T11: =O11/S11 -> 0.47581705
H12: GILVS | I12: =GILVS!R20 -> 1299.1247 | J12: =GILVS!S20 -> 0.11145836 | L12: From RR Model: | O12: RR Margin from Sales
E13: 0.2837 | F13: 0.3134 | G13: =F13-E13 -> 0.0297 | L13: Revenue Requirement | M13: =S13 -> 78719110 | O13: =M13-M14-M15 -> 77402499 | R13: 77402499 | S13: =SUM(R13:R14) -> 78719110
E14: 0.2104 | F14: 0.162 | G14: =F14-E14 -> -0.0484 | L14: Other Revenue | M14: ='Schedule G-2 Proposed Rates'!D30 -> 1316611.2 | N14: Difference | O14: =O13-O11 -> 8384.1969 | R14: =M14 -> 1316611.2
L15: Purchased Gas Expense | M15: 0 | O15: =O14/O13 -> 0.00010831946
E16: 0.3434 | F16: 0.3801 | G16: =F16-E16 -> 0.0367 | R16: Target
N17: ROO | O17: State and Federal Tax | Q17: =[6]C3!$J$17 -> 0.24867559 | R17: 4184258
L18: res | M18: 0.70207401 | N18: 54746061 | Q18: Residential | R18: Small Volume General Service | S18: Large Volume General Service
L19: svs | M19: 0.20483276 | N19: 15972371
A20: Effective 5-1-2012 | B20: Current Rates | L20: lvs | M20: 0.093093231 | N20: 7259188.7 | O20: Income tax expense | Q20: =R17-R20-S20 -> 2059258 | R20: =1450000 -> 1450000 | S20: =675000 -> 675000 | T20: =R17-SUM(Q20:S20) -> 0
D21: CUSTOMER | E21: DELIVERY | N21: Final | O21: Operating income | Q21: 12301326 | R21: 8646057.9 | S21: 4036604.6
B22: GRRES | D22: =VLOOKUP(B22,'UNSG - ALL RATES'!$F$2:$AP$22,8,0) -> 10 | E22: =VLOOKUP(B22,'UNSG - ALL RATES'!$F$3:$DF$22,41,0) -> 0.3434 | L22: res | M22: =N22/$N$25 -> 0.70241468 | N22: =O8 -> 54362763 | Q22: =Q21*$Q$17 -> 3059039.5 | R22: =R21*$Q$17 -> 2150063.5 | S22: =S21*$Q$17 -> 1003805
B23: GRRESC | D23: =VLOOKUP(B23,'UNSG - ALL RATES'!$F$2:$AP$22,8,0) -> 7 | E23: =VLOOKUP(B23,'UNSG - ALL RATES'!$F$3:$DF$22,41,0) -> 0.3434 | L23: svs | M23: =N23/$N$25 -> 0.20493094 | N23: =O9 -> 15860448 | O23: Proposed income tax expense net interest credits, etc. | Q23: =Q20/Q21 -> 0.1674013 | R23: =R20/R21 -> 0.16770649 | S23: =S20/S21 -> 0.16721975
B24: GGLVS | D24: =VLOOKUP(B24,'UNSG - ALL RATES'!$F$2:$AP$22,8,0) -> 225 | E24: =VLOOKUP(B24,'UNSG - ALL RATES'!$F$3:$DF$22,41,0) -> 0.2104 | L24: lvs | M24: =N24/$N$25 -> 0.092654381 | N24: =O10 -> 7170903.8
B25: GGSVS | D25: =VLOOKUP(B25,'UNSG - ALL RATES'!$F$2:$AP$22,8,0) -> 20 | E25: =VLOOKUP(B25,'UNSG - ALL RATES'!$F$3:$DF$22,41,0) -> 0.2837 | N25: =SUM(N22:N24) -> 77394115
B26: GISVS | D26: =VLOOKUP(B26,'UNSG - ALL RATES'!$F$2:$AP$22,8,0) -> 20 | E26: =VLOOKUP(B26,'UNSG - ALL RATES'!$F$3:$DF$22,41,0) -> 0.3061 | L26: Difference | M26: =M18-M22 -> -0.00034066941
B27: GILVS | D27: =VLOOKUP(B27,'UNSG - ALL RATES'!$F$2:$AP$22,8,0) -> 225 | E27: =VLOOKUP(B27,'UNSG - ALL RATES'!$F$3:$DF$22,41,0) -> 0.1248 | M27: =M19-M23 -> -9.8180646e-05
B28: GPSVS | D28: =VLOOKUP(B28,'UNSG - ALL RATES'!$F$2:$AP$22,8,0) -> 20 | E28: =VLOOKUP(B28,'UNSG - ALL RATES'!$F$3:$DF$22,41,0) -> 0.2841 | M28: =M20-M24 -> 0.00043885005
B29: GPLVS | D29: =VLOOKUP(B29,'UNSG - ALL RATES'!$F$2:$AP$22,8,0) -> 225 | E29: =VLOOKUP(B29,'UNSG - ALL RATES'!$F$3:$DF$22,41,0) -> 0.1527
B30: GPCNGSV | D30: =VLOOKUP(B30,'UNSG - ALL RATES'!$F$2:$AP$22,8,0) -> 20 | E30: =VLOOKUP(B30,'UNSG - ALL RATES'!$F$3:$DF$22,41,0) -> 0.2841
B31: GRCNG | D31: =VLOOKUP(B31,'UNSG - ALL RATES'!$F$2:$AP$22,8,0) -> 10 | E31: =VLOOKUP(B31,'UNSG - ALL RATES'!$F$3:$DF$22,41,0) -> 0.3434
B32: GGIRS | D32: =VLOOKUP(B32,'UNSG - ALL RATES'!$F$2:$AP$22,8,0) -> 20 | E32: =VLOOKUP(B32,'UNSG - ALL RATES'!$F$3:$DF$22,41,0) -> 0.3532
B33: GTGLVS | D33: =VLOOKUP(B33,'UNSG - ALL RATES'!$F$2:$AP$22,8,0) -> 225 | E33: =VLOOKUP(B33,'UNSG - ALL RATES'!$F$3:$DF$22,41,0) -> 0.2104
B34: GTILVS | D34: =VLOOKUP(B34,'UNSG - ALL RATES'!$F$2:$AP$22,8,0) -> 225 | E34: =VLOOKUP(B34,'UNSG - ALL RATES'!$F$3:$DF$22,41,0) -> 0.1248
B35: GTPLVS | D35: =VLOOKUP(B35,'UNSG - ALL RATES'!$F$2:$AP$22,8,0) -> 225 | E35: =VLOOKUP(B35,'UNSG - ALL RATES'!$F$3:$DF$22,41,0) -> 0.1527
B36: GTNILVS | D36: =VLOOKUP(B36,'UNSG - ALL RATES'!$F$2:$AP$22,8,0) -> 225 | E36: =VLOOKUP(B36,'UNSG - ALL RATES'!$F$3:$DF$22,41,0) -> 0.1248
B37: GTNGLVS | D37: =VLOOKUP(B37,'UNSG - ALL RATES'!$F$2:$AP$22,8,0) -> 225 | E37: =VLOOKUP(B37,'UNSG - ALL RATES'!$F$3:$DF$22,41,0) -> 0.2104
B38: GCNGLVS | D38: =VLOOKUP(B38,'UNSG - ALL RATES'!$F$2:$AP$22,8,0) -> 225 | E38: =VLOOKUP(B38,'UNSG - ALL RATES'!$F$3:$DF$22,41,0) -> 0.2104
B39: GTCNGGLV | D39: =VLOOKUP(B39,'UNSG - ALL RATES'!$F$2:$AP$22,8,0) -> 225 | E39: =VLOOKUP(B39,'UNSG - ALL RATES'!$F$3:$DF$22,41,0) -> 0.2104
B40: GTGSVS | D40: =VLOOKUP(B40,'UNSG - ALL RATES'!$F$2:$AP$22,8,0) -> 20 | E40: =VLOOKUP(B40,'UNSG - ALL RATES'!$F$3:$DF$22,41,0) -> 0.2841
...

Sheet Summary
B1: 1 | C1: =B1+1 -> 2 | D1: =C1+1 -> 3 | E1: =D1+1 -> 4 | F1: =E1+1 -> 5 | G1: =F1+1 -> 6 | H1: =G1+1 -> 7 | I1: =H1+1 -> 8 | J1: =I1+1 -> 9 | ... S1: =R1+1 -> 18
C2: 6 | D2: =C2+1 -> 7 | E2: =D2+1 -> 8 | F2: =E2+1 -> 9 | G2: =F2+1 -> 10 | H2: =G2+1 -> 11 | I2: =H2+1 -> 12 | J2: =I2+1 -> 13 | K2: =J2+1 -> 14 | ... S2: =R2+1 -> 22
C3: TEST YEAR UNADJUSTED | H3: TEST YEAR ADJUSTED | M3: PROPOSED
A5: Distribution Id | B5: Rate Description | C5: Basic Service Charges | D5: Sales (T) | E5: Margin Revenues | F5: Total Margin Revenues from Sales | H5: Basic Service Charges | I5: Sales (T) | J5: Margin Revenues | K5: Total Revenues from Sales | M5: Basic Service Charges | N5: Sales (T) | O5: Margin Revenues | P5: Total Revenues from Sales | Q5: Average Margin Rates | R5: Average $/T
B7: Class Summary
B8: Residential | C8: =SUM(C15:C16,C24) -> 1878084 | D8: =SUM(D15:D16,D24) -> 84422640 | E8: =SUM(E15:E16,E24) -> 47259624 | F8: =E8 -> 47259624 | H8: =SUM(H15:H16,H24) -> 1883853.3 | I8: =SUM(I15:I16,I24) -> 83845184 | J8: =SUM(J15:J16,J24) -> 47630969 | K8: =J8 -> 47630969 | M8: =SUM(M15:M16,M24) -> 1883853.3 | N8: =SUM(N15:N16,N24) -> 83845184 | O8: =SUM(O15:O16,O24) -> 54362763 | P8: =O8 -> 54362763 | Q8: =IFERROR(O8/N8,0) -> 0.64837073 | R8: =IFERROR(P8/N8,0) -> 0.64837073 | U8: TY Margin for non Transport | V8: =SUM(O15:O26) -> 71510560 | X8: TY Margin for Transport | Y8: =SUM(O27:O29) -> 5883554.7
B9: Small Volume General Service | C9: =+SUM(C17:C19,C23,C25) -> 158883 | D9: =+SUM(D17:D19,D23,D25) -> 39557016 | E9: =+SUM(E17:E19,E23,E25) -> 14422190 | F9: =E9 -> 14422190 | H9: =+SUM(H17:H19,H23,H25) -> 159218.41 | I9: =+SUM(I17:I19,I23,I25) -> 39416904 | J9: =+SUM(J17:J19,J23,J25) -> 14389763 | K9: =J9 -> 14389763 | M9: =+SUM(M17:M19,M23,M25) -> 159201.41 | N9: =+SUM(N17:N19,N23,N25) -> 36221648 | O9: =+SUM(O17:O19,O23,O25) -> 15860448 | P9: =O9 -> 15860448 | Q9: =IFERROR(O9/N9,0) -> 0.43787208 | R9: =IFERROR(P9/N9,0) -> 0.43787208 | X9: Unadjusted TY Transport | Y9: ='[1]Rev-Gas Summary'!$C$14 -> 6779086.6
B10: Large Volume General Service | C10: =SUM(C20:C22,C26:C30) -> 927 | D10: =SUM(D20:D22,D26:D30) -> 39440231 | E10: =SUM(E20:E22,E26:E30) -> 5651915 | F10: =E10 -> 5651915 | H10: =SUM(H20:H22,H26:H30) -> 933.50926 | I10: =SUM(I20:I22,I26:I30) -> 39393107 | J10: =SUM(J20:J22,J26:J30) -> 5645219.6 | K10: =J10 -> 5645219.6 | M10: =SUM(M20:M22,M26:M30) -> 950.50926 | N10: =SUM(N20:N22,N26:N30) -> 42588363 | O10: =SUM(O20:O22,O26:O30) -> 7170903.8 | P10: =SUM(P20:P22,P26:P30) -> 7170903.8 | Q10: =IFERROR(O10/N10,0) -> 0.16837707 | R10: =IFERROR(P10/N10,0) -> 0.16837707 | U10: Net Sales to Ultimate Customers | V10: ='[2]A3-06'!$C$10 -> 56939230 | X10: Golden Valley Pipeline | Y10: ='[1]Rev-Gas Summary'!$E$14 -> -824366.36
B11: Total Company | C11: =SUM(C8:C10) -> 2037894 | D11: =SUM(D8:D10)+D31 -> 163383766 | E11: =SUM(E8:E10)+E31 -> 67397028 | F11: =SUM(E11:E11) -> 67397028 | H11: =SUM(H8:H10) -> 2044005.2 | I11: =SUM(I8:I10) -> 1.6265519e+08 | J11: =SUM(J8:J10) -> 67665952 | K11: =SUM(K8:K10) -> 67665952 | M11: =SUM(M8:M10) -> 2044005.2 | N11: =SUM(N8:N10) -> 1.6265519e+08 | O11: =SUM(O8:O10) -> 77394115 | P11: =SUM(O11:O11) -> 77394115 | Q11: =IFERROR(O11/N11,0) -> 0.47581705 | R11: =IFERROR(P11/N11,0) -> 0.47581705 | U11: TCJA / LFCR | V11: ='[2]A3-06'!$F$10 -> 2264574.7 | X11: Adjustment | Y11: =Y8-SUM(Y9:Y10) -> -71165.576
B12: Checks | D12: =SUM('[3]Total Sales'!$AU$244:$AU$255)-(D11)+SUM(D26:D30) -> 0 | E12: =E11-[4]Summary!$G$226-E31 -> -5.835318e-09 | I12: =I11-[4]Summary!$F$212 -> 0 | J12: =J11-[4]Summary!$M$226 -> 0 | K12: =K11-[4]Summary!$M$226 -> 0 | N12: =N11-I11 -> 0 | U12: Cares Discount | V12: ='[2]A3-06'!$G$10 -> 339852.2
U13: Miscellaneous Service Fee Revenues | V13: 0
B14: RATE ID
B15: GRRES | C15: =VLOOKUP($B15&" "&C$5,'Revenue Proof Breakout'!$L$1:$Y$108,MATCH("TY Billing Determinants",'Revenue Proof Breakout'!$L$1:$Y$1,0),0) -> 1804456 | D15: =VLOOKUP($B15&" "&D$5,'Revenue Proof Breakout'!$L$1:$Y$108,MATCH("TY Billing Determinants",'Revenue Proof Breakout'!$L$1:$Y$1,0),0) -> 81711283 | E15: =VLOOKUP($B15&" "&E$5,'Revenue Proof Breakout'!$L$1:$Y$835,MATCH("TY Revenues",'Revenue Proof Breakout'!$L$1:$Y$1,0),0) -> 46104215 | F15: =SUM(E15:E15) -> 46104215 | H15: =VLOOKUP($B15&" "&H$5,'Revenue Proof Breakout'!$L$1:$Y$835,MATCH("Adjusted Billing Determinants",'Revenue Proof Breakout'!$L$1:$Y$1,0),0) -> 1814143.6 | I15: =VLOOKUP($B15&" "&I$5,'Revenue Proof Breakout'!$L$1:$Y$999,MATCH("Adjusted Billing Determinants",'Revenue Proof Breakout'!$L$1:$Y$1,0),0) -> 81350019 | J15: =VLOOKUP($B15&" "&J$5,'Revenue Proof Breakout'!$L$1:$Y$835,MATCH("Adjusted TY Revenues",'Revenue Proof Breakout'!$L$1:$Y$1,0),0) -> 46077033 | K15: =SUM(J15:J15) -> 46077033 | M15: =VLOOKUP($B15&" "&M$5,'Revenue Proof Breakout'!$L$1:$Y$835,MATCH("Proposed Billing Determinants",'Revenue Proof Breakout'!$L$1:$Y$1,0),0) -> 1814167.6 | N15: =VLOOKUP($B15&" "&N$5,'Revenue Proof Breakout'!$L$1:$Y$108,MATCH("Proposed Billing Determinants",'Revenue Proof Breakout'!$L$1:$Y$1,0),0) -> 81350797 | O15: =VLOOKUP($B15&" "&O$5,'Revenue Proof Breakout'!$L$1:$Y$835,MATCH("Proposed Revenues",'Revenue Proof Breakout'!$L$1:$Y$1,0),0) -> 52582599 | P15: =SUM(O15:O15) -> 52582599 | Q15: =IFERROR(O15/N15,0) -> 0.64636858 | R15: =IFERROR(P15/N15,0) -> 0.64636858 | U15: Adjustment | V15: =V8-SUM(V10:V13) -> 11966903
B16: GRRESC | C16: =VLOOKUP($B16&" "&C$5,'Revenue Proof Breakout'!$L$1:$Y$108,MATCH("TY Billing Determinants",'Revenue Proof Breakout'!$L$1:$Y$1,0),0) -> 73604 | D16: =VLOOKUP($B16&" "&D$5,'Revenue Proof Breakout'!$L$1:$Y$108,MATCH("TY Billing Determinants",'Revenue Proof Breakout'!$L$1:$Y$1,0),0) -> 2710566 | E16: =VLOOKUP($B16&" "&E$5,'Revenue Proof Breakout'!$L$1:$Y$835,MATCH("TY Revenues",'Revenue Proof Breakout'!$L$1:$Y$1,0),0) -> 1154897.8 | F16: =SUM(E16:E16) -> 1154897.8 | H16: =VLOOKUP($B16&" "&H$5,'Revenue Proof Breakout'!$L$1:$Y$835,MATCH("Adjusted Billing Determinants",'Revenue Proof Breakout'!$L$1:$Y$1,0),0) -> 69685.695 | I16: =VLOOKUP($B16&" "&I$5,'Revenue Proof Breakout'!$L$1:$Y$999,MATCH("Adjusted Billing Determinants",'Revenue Proof Breakout'!$L$1:$Y$1,0),0) -> 2494386.7 | J16: =VLOOKUP($B16&" "&J$5,'Revenue Proof Breakout'!$L$1:$Y$835,MATCH("Adjusted TY Revenues",'Revenue Proof Breakout'!$L$1:$Y$1,0),0) -> 1553429.4 | K16: =SUM(J16:J16) -> 1553429.4 | M16: =VLOOKUP($B16&" "&M$5,'Revenue Proof Breakout'!$L$1:$Y$835,MATCH("Proposed Billing Determinants",'Revenue Proof Breakout'!$L$1:$Y$1,0),0) -> 69685.695 | N16: =VLOOKUP($B16&" "&N$5,'Revenue Proof Breakout'!$L$1:$Y$108,MATCH("Proposed Billing Determinants",'Revenue Proof Breakout'!$L$1:$Y$1,0),0) -> 2494386.7 | O16: =VLOOKUP($B16&" "&O$5,'Revenue Proof Breakout'!$L$1:$Y$835,MATCH("Proposed Revenues",'Revenue Proof Breakout'!$L$1:$Y$1,0),0) -> 1780163.6 | P16: =SUM(O16:O16) -> 1780163.6 | Q16: =IFERROR(O16/N16,0) -> 0.71366784 | R16: =IFERROR(P16/N16,0) -> 0.71366784
B17: GGSVS | C17: =VLOOKUP($B17&" "&C$5,'Revenue Proof Breakout'!$L$1:$Y$108,MATCH("TY Billing Determinants",'Revenue Proof Breakout'!$L$1:$Y$1,0),0) -> 146178 | D17: =VLOOKUP($B17&" "&D$5,'Revenue Proof Breakout'!$L$1:$Y$108,MATCH("TY Billing Determinants",'Revenue Proof Breakout'!$L$1:$Y$1,0),0) -> 33936462 | E17: =VLOOKUP($B17&" "&E$5,'Revenue Proof Breakout'!$L$1:$Y$835,MATCH("TY Revenues",'Revenue Proof Breakout'!$L$1:$Y$1,0),0) -> 12551334 | F17: =SUM(E17:E17) -> 12551334 | H17: =VLOOKUP($B17&" "&H$5,'Revenue Proof Breakout'!$L$1:$Y$835,MATCH("Adjusted Billing Determinants",'Revenue Proof Breakout'!$L$1:$Y$1,0),0) -> 146536.54 | I17: =VLOOKUP($B17&" "&I$5,'Revenue Proof Breakout'!$L$1:$Y$999,MATCH("Adjusted Billing Determinants",'Revenue Proof Breakout'!$L$1:$Y$1,0),0) -> 33757920 | J17: =VLOOKUP($B17&" "&J$5,'Revenue Proof Breakout'!$L$1:$Y$835,MATCH("Adjusted TY Revenues",'Revenue Proof Breakout'!$L$1:$Y$1,0),0) -> 12507853 | K17: =SUM(J17:J17) -> 12507853 | M17: =VLOOKUP($B17&" "&M$5,'Revenue Proof Breakout'!$L$1:$Y$835,MATCH("Proposed Billing Determinants",'Revenue Proof Breakout'!$L$1:$Y$1,0),0) -> 159201.41 | N17: =VLOOKUP($B17&" "&N$5,'Revenue Proof Breakout'!$L$1:$Y$108,MATCH("Proposed Billing Determinants",'Revenue Proof Breakout'!$L$1:$Y$1,0),0) -> 36221648 | O17: =VLOOKUP($B17&" "&O$5,'Revenue Proof Breakout'!$L$1:$Y$835,MATCH("Proposed Revenues",'Revenue Proof Breakout'!$L$1:$Y$1,0),0) -> 15860448 | P17: =SUM(O17:O17) -> 15860448 | Q17: =IFERROR(O17/N17,0) -> 0.43787208 | R17: =IFERROR(P17/N17,0) -> 0.43787208
B18: GISVS | C18: =VLOOKUP($B18&" "&C$5,'Revenue Proof Breakout'!$L$1:$Y$108,MATCH("TY Billing Determinants",'Revenue Proof Breakout'!$L$1:$Y$1,0),0) -> 267 | D18: =VLOOKUP($B18&" "&D$5,'Revenue Proof Breakout'!$L$1:$Y$108,MATCH("TY Billing Determinants",'Revenue Proof Breakout'!$L$1:$Y$1,0),0) -> 883556 | E18: =VLOOKUP($B18&" "&E$5,'Revenue Proof Breakout'!$L$1:$Y$835,MATCH("TY Revenues",'Revenue Proof Breakout'!$L$1:$Y$1,0),0) -> 275796.49 | F18: =SUM(E18:E18) -> 275796.49 | H18: =VLOOKUP($B18&" "&H$5,'Revenue Proof Breakout'!$L$1:$Y$835,MATCH("Adjusted Billing Determinants",'Revenue Proof Breakout'!$L$1:$Y$1,0),0) -> 277.10433 | I18: =VLOOKUP($B18&" "&I$5,'Revenue Proof Breakout'!$L$1:$Y$999,MATCH("Adjusted Billing Determinants",'Revenue Proof Breakout'!$L$1:$Y$1,0),0) -> 914226.09 | J18: =VLOOKUP($B18&" "&J$5,'Revenue Proof Breakout'!$L$1:$Y$835,MATCH("Adjusted TY Revenues",'Revenue Proof Breakout'!$L$1:$Y$1,0),0) -> 285386.69 | K18: =SUM(J18:J18) -> 285386.69 | M18: =VLOOKUP($B18&" "&M$5,'Revenue Proof Breakout'!$L$1:$Y$835,MATCH("Proposed Billing Determinants",'Revenue Proof Breakout'!$L$1:$Y$1,0),0) -> 0 | N18: =VLOOKUP($B18&" "&N$5,'Revenue Proof Breakout'!$L$1:$Y$108,MATCH("Proposed Billing Determinants",'Revenue Proof Breakout'!$L$1:$Y$1,0),0) -> 0 | O18: =VLOOKUP($B18&" "&O$5,'Revenue Proof Breakout'!$L$1:$Y$835,MATCH("Proposed Revenues",'Revenue Proof Breakout'!$L$1:$Y$1,0),0) -> 0 | P18: =SUM(O18:O18) -> 0 | Q18: =IFERROR(O18/N18,0) -> 0 | R18: =IFERROR(P18/N18,0) -> 0
B19: GPSVS | C19: =VLOOKUP($B19&" "&C$5,'Revenue Proof Breakout'!$L$1:$Y$108,MATCH("TY Billing Determinants",'Revenue Proof Breakout'!$L$1:$Y$1,0),0) -> 12355 | D19: =VLOOKUP($B19&" "&D$5,'Revenue Proof Breakout'!$L$1:$Y$108,MATCH("TY Billing Determinants",'Revenue Proof Breakout'!$L$1:$Y$1,0),0) -> 4729503 | E19: =VLOOKUP($B19&" "&E$5,'Revenue Proof Breakout'!$L$1:$Y$835,MATCH("TY Revenues",'Revenue Proof Breakout'!$L$1:$Y$1,0),0) -> 1590751.8 | F19: =SUM(E19:E19) -> 1590751.8 | H19: =VLOOKUP($B19&" "&H$5,'Revenue Proof Breakout'!$L$1:$Y$835,MATCH("Adjusted Billing Determinants",'Revenue Proof Breakout'!$L$1:$Y$1,0),0) -> 12321.763 | I19: =VLOOKUP($B19&" "&I$5,'Revenue Proof Breakout'!$L$1:$Y$999,MATCH("Adjusted Billing Determinants",'Revenue Proof Breakout'!$L$1:$Y$1,0),0) -> 4738352.1 | J19: =VLOOKUP($B19&" "&J$5,'Revenue Proof Breakout'!$L$1:$Y$835,MATCH("Adjusted TY Revenues",'Revenue Proof Breakout'!$L$1:$Y$1,0),0) -> 1592601.1 | K19: =SUM(J19:J19) -> 1592601.1 | M19: =VLOOKUP($B19&" "&M$5,'Revenue Proof Breakout'!$L$1:$Y$835,MATCH("Proposed Billing Determinants",'Revenue Proof Breakout'!$L$1:$Y$1,0),0) -> 0 | N19: =VLOOKUP($B19&" "&N$5,'Revenue Proof Breakout'!$L$1:$Y$108,MATCH("Proposed Billing Determinants",'Revenue Proof Breakout'!$L$1:$Y$1,0),0) -> 0 | O19: =VLOOKUP($B19&" "&O$5,'Revenue Proof Breakout'!$L$1:$Y$835,MATCH("Proposed Revenues",'Revenue Proof Breakout'!$L$1:$Y$1,0),0) -> 0 | P19: =SUM(O19:O19) -> 0 | Q19: =IFERROR(O19/N19,0) -> 0 | R19: =IFERROR(P19/N19,0) -> 0
B20: GGLVS | C20: =VLOOKUP($B20&" "&C$5,'Revenue Proof Breakout'!$L$1:$Y$108,MATCH("TY Billing Determinants",'Revenue Proof Breakout'!$L$1:$Y$1,0),0) -> 314 | D20: =VLOOKUP($B20&" "&D$5,'Revenue Proof Breakout'!$L$1:$Y$108,MATCH("TY Billing Determinants",'Revenue Proof Breakout'!$L$1:$Y$1,0),0) -> 1168672 | E20: =VLOOKUP($B20&" "&E$5,'Revenue Proof Breakout'!$L$1:$Y$835,MATCH("TY Revenues",'Revenue Proof Breakout'!$L$1:$Y$1,0),0) -> 316538.59 | F20: =SUM(E20:E20) -> 316538.59 | H20: =VLOOKUP($B20&" "&H$5,'Revenue Proof Breakout'!$L$1:$Y$835,MATCH("Adjusted Billing Determinants",'Revenue Proof Breakout'!$L$1:$Y$1,0),0) -> 319.42593 | I20: =VLOOKUP($B20&" "&I$5,'Revenue Proof Breakout'!$L$1:$Y$999,MATCH("Adjusted Billing Determinants",'Revenue Proof Breakout'!$L$1:$Y$1,0),0) -> 1149625 | J20: =VLOOKUP($B20&" "&J$5,'Revenue Proof Breakout'!$L$1:$Y$835,MATCH("Adjusted TY Revenues",'Revenue Proof Breakout'!$L$1:$Y$1,0),0) -> 313751.94 | K20: =SUM(J20:J20) -> 313751.94 | M20: =VLOOKUP($B20&" "&M$5,'Revenue Proof Breakout'!$L$1:$Y$835,MATCH("Proposed Billing Determinants",'Revenue Proof Breakout'!$L$1:$Y$1,0),0) -> 0 | N20: =VLOOKUP($B20&" "&N$5,'Revenue Proof Breakout'!$L$1:$Y$108,MATCH("Proposed Billing Determinants",'Revenue Proof Breakout'!$L$1:$Y$1,0),0) -> 0 | O20: =VLOOKUP($B20&" "&O$5,'Revenue Proof Breakout'!$L$1:$Y$835,MATCH("Proposed Revenues",'Revenue Proof Breakout'!$L$1:$Y$1,0),0) -> 0 | P20: =SUM(O20:O20) -> 0 | Q20: =IFERROR(O20/N20,0) -> 0 | R20: =IFERROR(P20/N20,0) -> 0
B21: GILVS | C21: =VLOOKUP($B21&" "&C$5,'Revenue Proof Breakout'!$L$1:$Y$108,MATCH("TY Billing Determinants",'Revenue Proof Breakout'!$L$1:$Y$1,0),0) -> 86 | D21: =VLOOKUP($B21&" "&D$5,'Revenue Proof Breakout'!$L$1:$Y$108,MATCH("TY Billing Determinants",'Revenue Proof Breakout'!$L$1:$Y$1,0),0) -> 1699928 | E21: =VLOOKUP($B21&" "&E$5,'Revenue Proof Breakout'!$L$1:$Y$835,MATCH("TY Revenues",'Revenue Proof Breakout'!$L$1:$Y$1,0),0) -> 231501.01 | F21: =SUM(E21:E21) -> 231501.01 | H21: =VLOOKUP($B21&" "&H$5,'Revenue Proof Breakout'!$L$1:$Y$835,MATCH("Adjusted Billing Determinants",'Revenue Proof Breakout'!$L$1:$Y$1,0),0) -> 87.083333 | I21: =VLOOKUP($B21&" "&I$5,'Revenue Proof Breakout'!$L$1:$Y$999,MATCH("Adjusted Billing Determinants",'Revenue Proof Breakout'!$L$1:$Y$1,0),0) -> 1695093.5 | J21: =VLOOKUP($B21&" "&J$5,'Revenue Proof Breakout'!$L$1:$Y$835,MATCH("Adjusted TY Revenues",'Revenue Proof Breakout'!$L$1:$Y$1,0),0) -> 231141.41 | K21: =SUM(J21:J21) -> 231141.41 | M21: =VLOOKUP($B21&" "&M$5,'Revenue Proof Breakout'!$L$1:$Y$835,MATCH("Proposed Billing Determinants",'Revenue Proof Breakout'!$L$1:$Y$1,0),0) -> 506.50926 | N21: =VLOOKUP($B21&" "&N$5,'Revenue Proof Breakout'!$L$1:$Y$108,MATCH("Proposed Billing Determinants",'Revenue Proof Breakout'!$L$1:$Y$1,0),0) -> 7053235.7 | O21: =VLOOKUP($B21&" "&O$5,'Revenue Proof Breakout'!$L$1:$Y$835,MATCH("Proposed Revenues",'Revenue Proof Breakout'!$L$1:$Y$1,0),0) -> 1287349.1 | P21: =SUM(O21:O21) -> 1287349.1 | Q21: =IFERROR(O21/N21,0) -> 0.18251894 | R21: =IFERROR(P21/N21,0) -> 0.18251894
B22: GPLVS | C22: =VLOOKUP($B22&" "&C$5,'Revenue Proof Breakout'!$L$1:$Y$108,MATCH("TY Billing Determinants",'Revenue Proof Breakout'!$L$1:$Y$1,0),0) -> 83 | D22: =VLOOKUP($B22&" "&D$5,'Revenue Proof Breakout'!$L$1:$Y$108,MATCH("TY Billing Determinants",'Revenue Proof Breakout'!$L$1:$Y$1,0),0) -> 1036504 | E22: =VLOOKUP($B22&" "&E$5,'Revenue Proof Breakout'!$L$1:$Y$835,MATCH("TY Revenues",'Revenue Proof Breakout'!$L$1:$Y$1,0),0) -> 176949.16 | F22: =SUM(E22:E22) -> 176949.16 | H22: =VLOOKUP($B22&" "&H$5,'Revenue Proof Breakout'!$L$1:$Y$835,MATCH("Adjusted Billing Determinants",'Revenue Proof Breakout'!$L$1:$Y$1,0),0) -> 83 | I22: =VLOOKUP($B22&" "&I$5,'Revenue Proof Breakout'!$L$1:$Y$999,MATCH("Adjusted Billing Determinants",'Revenue Proof Breakout'!$L$1:$Y$1,0),0) -> 1013261.8 | J22: =VLOOKUP($B22&" "&J$5,'Revenue Proof Breakout'!$L$1:$Y$835,MATCH("Adjusted TY Revenues",'Revenue Proof Breakout'!$L$1:$Y$1,0),0) -> 173400.07 | K22: =SUM(J22:J22) -> 173400.07 | M22: =VLOOKUP($B22&" "&M$5,'Revenue Proof Breakout'!$L$1:$Y$835,MATCH("Proposed Billing Determinants",'Revenue Proof Breakout'!$L$1:$Y$1,0),0) -> 0 | N22: =VLOOKUP($B22&" "&N$5,'Revenue Proof Breakout'!$L$1:$Y$108,MATCH("Proposed Billing Determinants",'Revenue Proof Breakout'!$L$1:$Y$1,0),0) -> 0 | O22: =VLOOKUP($B22&" "&O$5,'Revenue Proof Breakout'!$L$1:$Y$835,MATCH("Proposed Revenues",'Revenue Proof Breakout'!$L$1:$Y$1,0),0) -> 0 | P22: =SUM(O22:O22) -> 0 | Q22: =IFERROR(O22/N22,0) -> 0 | R22: =IFERROR(P22/N22,0) -> 0
B23: GPCNGSV | C23: =VLOOKUP($B23&" "&C$5,'Revenue Proof Breakout'!$L$1:$Y$108,MATCH("TY Billing Determinants",'Revenue Proof Breakout'!$L$1:$Y$1,0),0) -> 36 | D23: =VLOOKUP($B23&" "&D$5,'Revenue Proof Breakout'!$L$1:$Y$108,MATCH("TY Billing Determinants",'Revenue Proof Breakout'!$L$1:$Y$1,0),0) -> 0 | E23: =VLOOKUP($B23&" "&E$5,'Revenue Proof Breakout'!$L$1:$Y$835,MATCH("TY Revenues",'Revenue Proof Breakout'!$L$1:$Y$1,0),0) -> 720 | F23: =SUM(E23:E23) -> 720 | H23: =VLOOKUP($B23&" "&H$5,'Revenue Proof Breakout'!$L$1:$Y$835,MATCH("Adjusted Billing Determinants",'Revenue Proof Breakout'!$L$1:$Y$1,0),0) -> 36 | I23: =VLOOKUP($B23&" "&I$5,'Revenue Proof Breakout'!$L$1:$Y$999,MATCH("Adjusted Billing Determinants",'Revenue Proof Breakout'!$L$1:$Y$1,0),0) -> 0 | J23: =VLOOKUP($B23&" "&J$5,'Revenue Proof Breakout'!$L$1:$Y$835,MATCH("Adjusted TY Revenues",'Revenue Proof Breakout'!$L$1:$Y$1,0),0) -> 720 | K23: =SUM(J23:J23) -> 720 | M23: =VLOOKUP($B23&" "&M$5,'Revenue Proof Breakout'!$L$1:$Y$835,MATCH("Proposed Billing Determinants",'Revenue Proof Breakout'!$L$1:$Y$1,0),0) -> 0 | N23: =VLOOKUP($B23&" "&N$5,'Revenue Proof Breakout'!$L$1:$Y$108,MATCH("Proposed Billing Determinants",'Revenue Proof Breakout'!$L$1:$Y$1,0),0) -> 0 | O23: =VLOOKUP($B23&" "&O$5,'Revenue Proof Breakout'!$L$1:$Y$835,MATCH("Proposed Revenues",'Revenue Proof Breakout'!$L$1:$Y$1,0),0) -> 0 | P23: =SUM(O23:O23) -> 0 | Q23: =IFERROR(O23/N23,0) -> 0 | R23: =IFERROR(P23/N23,0) -> 0
B24: GRCNG | C24: =VLOOKUP($B24&" "&C$5,'Revenue Proof Breakout'!$L$1:$Y$108,MATCH("TY Billing Determinants",'Revenue Proof Breakout'!$L$1:$Y$1,0),0) -> 24 | D24: =VLOOKUP($B24&" "&D$5,'Revenue Proof Breakout'!$L$1:$Y$108,MATCH("TY Billing Determinants",'Revenue Proof Breakout'!$L$1:$Y$1,0),0) -> 791 | E24: =VLOOKUP($B24&" "&E$5,'Revenue Proof Breakout'!$L$1:$Y$835,MATCH("TY Revenues",'Revenue Proof Breakout'!$L$1:$Y$1,0),0) -> 511.6294 | F24: =SUM(E24:E24) -> 511.6294 | H24: =VLOOKUP($B24&" "&H$5,'Revenue Proof Breakout'!$L$1:$Y$835,MATCH("Adjusted Billing Determinants",'Revenue Proof Breakout'!$L$1:$Y$1,0),0) -> 24 | I24: =VLOOKUP($B24&" "&I$5,'Revenue Proof Breakout'!$L$1:$Y$999,MATCH("Adjusted Billing Determinants",'Revenue Proof Breakout'!$L$1:$Y$1,0),0) -> 777.65685 | J24: =VLOOKUP($B24&" "&J$5,'Revenue Proof Breakout'!$L$1:$Y$835,MATCH("Adjusted TY Revenues",'Revenue Proof Breakout'!$L$1:$Y$1,0),0) -> 507.04736 | K24: =SUM(J24:J24) -> 507.04736 | M24: =VLOOKUP($B24&" "&M$5,'Revenue Proof Breakout'!$L$1:$Y$835,MATCH("Proposed Billing Determinants",'Revenue Proof Breakout'!$L$1:$Y$1,0),0) -> 0 | N24: =VLOOKUP($B24&" "&N$5,'Revenue Proof Breakout'!$L$1:$Y$108,MATCH("Proposed Billing Determinants",'Revenue Proof Breakout'!$L$1:$Y$1,0),0) -> 0 | O24: =VLOOKUP($B24&" "&O$5,'Revenue Proof Breakout'!$L$1:$Y$835,MATCH("Proposed Revenues",'Revenue Proof Breakout'!$L$1:$Y$1,0),0) -> 0 | P24: =SUM(O24:O24) -> 0 | Q24: =IFERROR(O24/N24,0) -> 0 | R24: =IFERROR(P24/N24,0) -> 0
B25: GGIRS | C25: =VLOOKUP($B25&" "&C$5,'Revenue Proof Breakout'!$L$1:$Y$108,MATCH("TY Billing Determinants",'Revenue Proof Breakout'!$L$1:$Y$1,0),0) -> 47 | D25: =VLOOKUP($B25&" "&D$5,'Revenue Proof Breakout'!$L$1:$Y$108,MATCH("TY Billing Determinants",'Revenue Proof Breakout'!$L$1:$Y$1,0),0) -> 7495 | E25: =VLOOKUP($B25&" "&E$5,'Revenue Proof Breakout'!$L$1:$Y$835,MATCH("TY Revenues",'Revenue Proof Breakout'!$L$1:$Y$1,0),0) -> 3587.234 | F25: =SUM(E25:E25) -> 3587.234 | H25: =VLOOKUP($B25&" "&H$5,'Revenue Proof Breakout'!$L$1:$Y$835,MATCH("Adjusted Billing Determinants",'Revenue Proof Breakout'!$L$1:$Y$1,0),0) -> 47 | I25: =VLOOKUP($B25&" "&I$5,'Revenue Proof Breakout'!$L$1:$Y$999,MATCH("Adjusted Billing Determinants",'Revenue Proof Breakout'!$L$1:$Y$1,0),0) -> 6405.3024 | J25: =VLOOKUP($B25&" "&J$5,'Revenue Proof Breakout'!$L$1:$Y$835,MATCH("Adjusted TY Revenues",'Revenue Proof Breakout'!$L$1:$Y$1,0),0) -> 3202.3528 | K25: =SUM(J25:J25) -> 3202.3528 | M25: =VLOOKUP($B25&" "&M$5,'Revenue Proof Breakout'!$L$1:$Y$835,MATCH("Proposed Billing Determinants",'Revenue Proof Breakout'!$L$1:$Y$1,0),0) -> 0 | N25: =VLOOKUP($B25&" "&N$5,'Revenue Proof Breakout'!$L$1:$Y$108,MATCH("Proposed Billing Determinants",'Revenue Proof Breakout'!$L$1:$Y$1,0),0) -> 0 | O25: =VLOOKUP($B25&" "&O$5,'Revenue Proof Breakout'!$L$1:$Y$835,MATCH("Proposed Revenues",'Revenue Proof Breakout'!$L$1:$Y$1,0),0) -> 0 | P25: =SUM(O25:O25) -> 0 | Q25: =IFERROR(O25/N25,0) -> 0 | R25: =IFERROR(P25/N25,0) -> 0
B26: GTGLVS | C26: =VLOOKUP($B26&" "&C$5,'Revenue Proof Breakout'!$L$1:$Y$108,MATCH("TY Billing Determinants",'Revenue Proof Breakout'!$L$1:$Y$1,0),0) -> 96 | D26: =VLOOKUP($B26&" "&D$5,'Revenue Proof Breakout'!$L$1:$Y$118,MATCH("TY Billing Determinants",'Revenue Proof Breakout'!$L$1:$Y$1,0),0) -> 1545731 | E26: =VLOOKUP($B26&" "&E$5,'Revenue Proof Breakout'!$L$1:$Y$835,MATCH("TY Revenues",'Revenue Proof Breakout'!$L$1:$Y$1,0),0) -> 346821.8 | F26: =SUM(E26:E26) -> 346821.8 | H26: =VLOOKUP($B26&" "&H$5,'Revenue Proof Breakout'!$L$1:$Y$835,MATCH("Adjusted Billing Determinants",'Revenue Proof Breakout'!$L$1:$Y$1,0),0) -> 96 | I26: =VLOOKUP($B26&" "&I$5,'Revenue Proof Breakout'!$L$1:$Y$999,MATCH("Adjusted Billing Determinants",'Revenue Proof Breakout'!$L$1:$Y$1,0),0) -> 1545731 | J26: =VLOOKUP($B26&" "&J$5,'Revenue Proof Breakout'!$L$1:$Y$835,MATCH("Adjusted TY Revenues",'Revenue Proof Breakout'!$L$1:$Y$1,0),0) -> 346821.8 | K26: =SUM(J26:J26) -> 346821.8 | M26: =VLOOKUP($B26&" "&M$5,'Revenue Proof Breakout'!$L$1:$Y$835,MATCH("Proposed Billing Determinants",'Revenue Proof Breakout'!$L$1:$Y$1,0),0) -> 0 | N26: =VLOOKUP($B26&" "&N$5,'Revenue Proof Breakout'!$L$1:$Y$108,MATCH("Proposed Billing Determinants",'Revenue Proof Breakout'!$L$1:$Y$1,0),0) -> 0 | O26: =VLOOKUP($B26&" "&O$5,'Revenue Proof Breakout'!$L$1:$Y$835,MATCH("Proposed Revenues",'Revenue Proof Breakout'!$L$1:$Y$1,0),0) -> 0 | P26: =SUM(O26:O26) -> 0 | Q26: =IFERROR(O26/N26,0) -> 0 | R26: =IFERROR(P26/N26,0) -> 0
B27: GTILVS | C27: =VLOOKUP($B27&" "&C$5,'Revenue Proof Breakout'!$L$1:$Y$108,MATCH("TY Billing Determinants",'Revenue Proof Breakout'!$L$1:$Y$1,0),0) -> 96 | D27: =VLOOKUP($B27&" "&D$5,'Revenue Proof Breakout'!$L$1:$Y$108,MATCH("TY Billing Determinants",'Revenue Proof Breakout'!$L$1:$Y$1,0),0) -> 14114075 | E27: =VLOOKUP($B27&" "&E$5,'Revenue Proof Breakout'!$L$1:$Y$835,MATCH("TY Revenues",'Revenue Proof Breakout'!$L$1:$Y$1,0),0) -> 1783036.6 | F27: =SUM(E27:E27) -> 1783036.6 | H27: =VLOOKUP($B27&" "&H$5,'Revenue Proof Breakout'!$L$1:$Y$835,MATCH("Adjusted Billing Determinants",'Revenue Proof Breakout'!$L$1:$Y$1,0),0) -> 96 | I27: =VLOOKUP($B27&" "&I$5,'Revenue Proof Breakout'!$L$1:$Y$999,MATCH("Adjusted Billing Determinants",'Revenue Proof Breakout'!$L$1:$Y$1,0),0) -> 14114075 | J27: =VLOOKUP($B27&" "&J$5,'Revenue Proof Breakout'!$L$1:$Y$835,MATCH("Adjusted TY Revenues",'Revenue Proof Breakout'!$L$1:$Y$1,0),0) -> 1783036.6 | K27: =SUM(J27:J27) -> 1783036.6 | M27: =VLOOKUP($B27&" "&M$5,'Revenue Proof Breakout'!$L$1:$Y$835,MATCH("Proposed Billing Determinants",'Revenue Proof Breakout'!$L$1:$Y$1,0),0) -> 276 | N27: =VLOOKUP($B27&" "&N$5,'Revenue Proof Breakout'!$L$1:$Y$108,MATCH("Proposed Billing Determinants",'Revenue Proof Breakout'!$L$1:$Y$1,0),0) -> 20564752 | O27: =VLOOKUP($B27&" "&O$5,'Revenue Proof Breakout'!$L$1:$Y$835,MATCH("Proposed Revenues",'Revenue Proof Breakout'!$L$1:$Y$1,0),0) -> 3410351.3 | P27: =SUM(O27:O27) -> 3410351.3 | Q27: =IFERROR(O27/N27,0) -> 0.16583479 | R27: =IFERROR(P27/N27,0) -> 0.16583479
B28: GTPLVS | C28: =VLOOKUP($B28&" "&C$5,'Revenue Proof Breakout'!$L$1:$Y$108,MATCH("TY Billing Determinants",'Revenue Proof Breakout'!$L$1:$Y$1,0),0) -> 84 | D28: =VLOOKUP($B28&" "&D$5,'Revenue Proof Breakout'!$L$1:$Y$108,MATCH("TY Billing Determinants",'Revenue Proof Breakout'!$L$1:$Y$1,0),0) -> 4904946 | E28: =VLOOKUP($B28&" "&E$5,'Revenue Proof Breakout'!$L$1:$Y$835,MATCH("TY Revenues",'Revenue Proof Breakout'!$L$1:$Y$1,0),0) -> 767885.25 | F28: =SUM(E28:E28) -> 767885.25 | H28: =VLOOKUP($B28&" "&H$5,'Revenue Proof Breakout'!$L$1:$Y$835,MATCH("Adjusted Billing Determinants",'Revenue Proof Breakout'!$L$1:$Y$1,0),0) -> 84 | I28: =VLOOKUP($B28&" "&I$5,'Revenue Proof Breakout'!$L$1:$Y$999,MATCH("Adjusted Billing Determinants",'Revenue Proof Breakout'!$L$1:$Y$1,0),0) -> 4904946 | J28: =VLOOKUP($B28&" "&J$5,'Revenue Proof Breakout'!$L$1:$Y$835,MATCH("Adjusted TY Revenues",'Revenue Proof Breakout'!$L$1:$Y$1,0),0) -> 767885.25 | K28: =SUM(J28:J28) -> 767885.25 | M28: =VLOOKUP($B28&" "&M$5,'Revenue Proof Breakout'!$L$1:$Y$835,MATCH("Proposed Billing Determinants",'Revenue Proof Breakout'!$L$1:$Y$1,0),0) -> 0 | N28: =VLOOKUP($B28&" "&N$5,'Revenue Proof Breakout'!$L$1:$Y$108,MATCH("Proposed Billing Determinants",'Revenue Proof Breakout'!$L$1:$Y$1,0),0) -> 0 | O28: =VLOOKUP($B28&" "&O$5,'Revenue Proof Breakout'!$L$1:$Y$835,MATCH("Proposed Revenues",'Revenue Proof Breakout'!$L$1:$Y$1,0),0) -> 0 | P28: =SUM(O28:O28) -> 0 | Q28: =IFERROR(O28/N28,0) -> 0 | R28: =IFERROR(P28/N28,0) -> 0
B29: GTNILVS | C29: =VLOOKUP($B29&" "&C$5,'Revenue Proof Breakout'!$L$1:$Y$118,MATCH("TY Billing Determinants",'Revenue Proof Breakout'!$L$1:$Y$1,0),0) -> 96 | D29: =VLOOKUP($B29&" "&D$5,'Revenue Proof Breakout'!$L$1:$Y$118,MATCH("TY Billing Determinants",'Revenue Proof Breakout'!$L$1:$Y$1,0),0) -> 13532527 | E29: =VLOOKUP($B29&" "&E$5,'Revenue Proof Breakout'!$L$1:$Y$835,MATCH("TY Revenues",'Revenue Proof Breakout'!$L$1:$Y$1,0),0) -> 1710459.4 | F29: =SUM(E29:E29) -> 1710459.4 | H29: =VLOOKUP($B29&" "&H$5,'Revenue Proof Breakout'!$L$1:$Y$835,MATCH("Adjusted Billing Determinants",'Revenue Proof Breakout'!$L$1:$Y$1,0),0) -> 96 | I29: =VLOOKUP($B29&" "&I$5,'Revenue Proof Breakout'!$L$1:$Y$999,MATCH("Adjusted Billing Determinants",'Revenue Proof Breakout'!$L$1:$Y$1,0),0) -> 13532527 | J29: =VLOOKUP($B29&" "&J$5,'Revenue Proof Breakout'!$L$1:$Y$835,MATCH("Adjusted TY Revenues",'Revenue Proof Breakout'!$L$1:$Y$1,0),0) -> 1710459.4 | K29: =SUM(J29:J29) -> 1710459.4 | M29: =VLOOKUP($B29&" "&M$5,'Revenue Proof Breakout'!$L$1:$Y$835,MATCH("Proposed Billing Determinants",'Revenue Proof Breakout'!$L$1:$Y$1,0),0) -> 168 | N29: =VLOOKUP($B29&" "&N$5,'Revenue Proof Breakout'!$L$1:$Y$118,MATCH("Proposed Billing Determinants",'Revenue Proof Breakout'!$L$1:$Y$1,0),0) -> 14970375 | O29: =VLOOKUP($B29&" "&O$5,'Revenue Proof Breakout'!$L$1:$Y$835,MATCH("Proposed Revenues",'Revenue Proof Breakout'!$L$1:$Y$1,0),0) -> 2473203.4 | P29: =SUM(O29:O29) -> 2473203.4 | Q29: =IFERROR(O29/N29,0) -> 0.16520651 | R29: =IFERROR(P29/N29,0) -> 0.16520651
B30: GTNGLVS | C30: =VLOOKUP($B30&" "&C$5,'Revenue Proof Breakout'!$L$1:$Y$118,MATCH("TY Billing Determinants",'Revenue Proof Breakout'!$L$1:$Y$1,0),0) -> 72 | D30: =VLOOKUP($B30&" "&D$5,'Revenue Proof Breakout'!$L$1:$Y$118,MATCH("TY Billing Determinants",'Revenue Proof Breakout'!$L$1:$Y$1,0),0) -> 1437848 | E30: =VLOOKUP($B30&" "&E$5,'Revenue Proof Breakout'!$L$1:$Y$835,MATCH("TY Revenues",'Revenue Proof Breakout'!$L$1:$Y$1,0),0) -> 318723.22 | F30: =SUM(E30:E30) -> 318723.22 | H30: =VLOOKUP($B30&" "&H$5,'Revenue Proof Breakout'!$L$1:$Y$835,MATCH("Adjusted Billing Determinants",'Revenue Proof Breakout'!$L$1:$Y$1,0),0) -> 72 | I30: =VLOOKUP($B30&" "&I$5,'Revenue Proof Breakout'!$L$1:$Y$999,MATCH("Adjusted Billing Determinants",'Revenue Proof Breakout'!$L$1:$Y$1,0),0) -> 1437848 | J30: =VLOOKUP($B30&" "&J$5,'Revenue Proof Breakout'!$L$1:$Y$835,MATCH("Adjusted TY Revenues",'Revenue Proof Breakout'!$L$1:$Y$1,0),0) -> 318723.22 | K30: =SUM(J30:J30) -> 318723.22 | M30: =VLOOKUP($B30&" "&M$5,'Revenue Proof Breakout'!$L$1:$Y$835,MATCH("Proposed Billing Determinants",'Revenue Proof Breakout'!$L$1:$Y$1,0),0) -> 0 | N30: =VLOOKUP($B30&" "&N$5,'Revenue Proof Breakout'!$L$1:$Y$118,MATCH("Proposed Billing Determinants",'Revenue Proof Breakout'!$L$1:$Y$1,0),0) -> 0 | O30: =VLOOKUP($B30&" "&O$5,'Revenue Proof Breakout'!$L$1:$Y$835,MATCH("Proposed Revenues",'Revenue Proof Breakout'!$L$1:$Y$1,0),0) -> 0 | P30: =SUM(O30:O30) -> 0 | Q30: =IFERROR(O30/N30,0) -> 0 | R30: =IFERROR(P30/N30,0) -> 0
B31: Unbilled | D31: =D34 -> -36121 | E31: =E34 -> 63298.78 | Q31: =IFERROR(O31/N31,0) -> 0 | R31: =IFERROR(P31/N31,0) -> 0
A33: Checks | C33: =C11-SUM(C15:C30)-C31 -> 0 | D33: =D11-SUM(D15:D30)-D31 -> 3.8926373e-09 | E33: =E11-SUM(E15:E30)-E31 -> 9.0658432e-09 | H33: =H11-SUM(H15:H31) -> 0 | I33: =I11-SUM(I15:I31) -> 0 | J33: =J11-SUM(J15:J31) -> 0 | K33: =K11-SUM(K15:K31) -> 0 | M33: =M11-SUM(M15:M31) -> 0 | N33: =N11-SUM(N15:N31) -> 0 | O33: =O11-SUM(O15:O31) -> 0 | P33: =P11-SUM(P15:P31) -> 0
B34: Total Company Unbilled | D34: =SUM('[5]TY Billing Determinants'!$K$2:$K$133) -> -36121 | E34: =SUM([4]Summary!$H$212) -> 63298.78
E256: =Summary!C9*#REF! -> #REF!

Sheet Revenue Proof Breakout
A1: Current Effective Date | B1: Proposed Effective Date | C1: Subaccount | D1: Rate ID | E1: Current Lookup | F1: Proposed Lookup | G1: Billing Determinants lookup Billed | H1: Billing Determinants Lookup Adjusted | I1: Rate Component lookup | J1: H5 Lookup Billed | K1: H5 Lookup Adjusted | L1: Summary lookup | M1: Sub Account | N1: Rate Id | O1: Rate Description and UOM | P1: Current Rates | Q1: TY Billing Determinants | R1: TY Revenues | T1: Adjusted Billing Determinants | U1: Adjusted TY Revenues | W1: Proposed Rates | X1: Proposed Billing Determinants | Y1: Proposed Revenues
J4: 5 | K4: 6
A5: 41030 | B5: ='UNSG - ALL RATES'!$B$25 -> 46082 | C5: =M5 -> 5751 | D5: =N5 -> GRRES | E5: =IF(D5="","",A5&$D5) -> 41030GRRES | F5: =IF(E5="","",B5&$D5) -> 46082GRRES | I5: =IFERROR(IF(VLOOKUP(O5,Lookup!$A$1:$B$200,2,0)="","",VLOOKUP(O5,Lookup!$A$1:$B$200,2,0)),"") | M5: =VLOOKUP(N5,'UNSG - ALL RATES'!$E$25:$F$41,2,0) -> 5751 | N5: ='UNSG - ALL RATES'!F15 -> GRRES | O5: =VLOOKUP($N5,'UNSG - ALL RATES'!$F$2:$G$383,2,0) -> Residential Gas Service
A6: 41030 | B6: ='UNSG - ALL RATES'!$B$25 -> 46082 | C6: =C5 -> 5751 | D6: =IF(N6="",D5,IF(N7<>D5,N6)) -> GRRES | E6: =IF(D6="","",A6&$D6) -> 41030GRRES | F6: =IF(E6="","",B6&$D6) -> 46082GRRES | G6: =IFERROR(IF(VLOOKUP($O6,Lookup!$G$1:$I$182,2,0)="","",VLOOKUP($O6,Lookup!$G$1:$I$182,2,0)),"") -> total_bill_count | H6: =IFERROR(IF(VLOOKUP($O6,Lookup!$G$1:$I$182,3,0)="","",VLOOKUP($O6,Lookup!$G$1:$I$182,3,0)),"") -> total_adjusted_bill_count | I6: =IFERROR(IF(VLOOKUP(O6,Lookup!$A$1:$B$200,2,0)="","",VLOOKUP(O6,Lookup!$A$1:$B$200,2,0)),"") -> BASIC_SERVICE_CHARGE | J6: =C6&D6&G6 -> 5751GRREStotal_bill_count | K6: =C6&D6&H6 -> 5751GRREStotal_adjusted_bill_count | L6: =D6&" "&IFERROR(IF(VLOOKUP(O6,Lookup!$D$1:$E$201,2,0)="","",VLOOKUP(O6,Lookup!$D$1:$E$201,2,0)),"") -> GRRES Basic Service Charges | O6: Basic Service Charge Per Month | P6: =VLOOKUP(E6,'UNSG - ALL RATES'!$A$2:$DF$83,MATCH($I6,'UNSG - ALL RATES'!$A$3:$DF$3,0),0) -> 10 | Q6: =VLOOKUP($C6&$D6,'[4]Billed Annual Billing Det'!$A$2:$N$16,4,0) -> 1804456 | R6: =$P6*Q6 -> 18044560 | T6: =VLOOKUP($C6&$D6,'[4]Adjusted Annual Billing Det'!$A$2:$L$16,4,0) -> 1814143.6 | U6: =$P6*T6 -> 18141436 | W6: =VLOOKUP(F6,'UNSG - ALL RATES'!$A$2:$CG$83,MATCH($I6,'UNSG - ALL RATES'!$A$3:$CG$3,0),0) -> 11.94 | X6: =VLOOKUP($C6&$D6,'[4]Proposed Annual Billing Det'!$A$2:$N$16,4,0) -> 1814167.6 | Y6: =$W6*X6 -> 21661161
A7: 41030 | B7: ='UNSG - ALL RATES'!$B$25 -> 46082 | C7: =C6 -> 5751 | D7: =IF(N7="",D6,IF(N8<>D6,N7)) -> GRRES | E7: =IF(D7="","",A7&$D7) -> 41030GRRES | F7: =IF(E7="","",B7&$D7) -> 46082GRRES | H7: =IFERROR(IF(VLOOKUP($O7,Lookup!$G$1:$I$182,3,0)="","",VLOOKUP($O7,Lookup!$G$1:$I$182,3,0)),"") | I7: =IFERROR(IF(VLOOKUP(O7,Lookup!$A$1:$B$200,2,0)="","",VLOOKUP(O7,Lookup!$A$1:$B$200,2,0)),"") -> LFCR_FIXED_UNSG | J7: =C7&D7&G8 -> 5751GRREStotal_billed_therms | K7: =C7&D7&H7 -> 5751GRRES | L7: =D7&" "&IFERROR(IF(VLOOKUP(O7,Lookup!$D$1:$E$201,2,0)="","",VLOOKUP(O7,Lookup!$D$1:$E$201,2,0)),"") -> GRRES | O7: Basic Service Charge Per Month Adder, w/ LFCR | P7: =VLOOKUP(E7,'UNSG - ALL RATES'!$A$2:$DF$83,MATCH($I7,'UNSG - ALL RATES'!$A$3:$DF$3,0),0) -> 1.5 | Q7: 0 | R7: =$P7*Q7 -> 0 | T7: 0 | U7: =$P7*T7 -> 0 | W7: =VLOOKUP(F7,'UNSG - ALL RATES'!$A$2:$CG$83,MATCH($I7,'UNSG - ALL RATES'!$A$3:$CG$3,0),0) -> 0 | X7: 0
A8: 41030 | B8: ='UNSG - ALL RATES'!$B$25 -> 46082 | C8: =C7 -> 5751 | D8: =IF(N8="",D7,IF(N9<>D7,N8)) -> GRRES | E8: =IF(D8="","",A8&$D8) -> 41030GRRES | F8: =IF(E8="","",B8&$D8) -> 46082GRRES | G8: =IFERROR(IF(VLOOKUP($O8,Lookup!$G$1:$I$182,2,0)="","",VLOOKUP($O8,Lookup!$G$1:$I$182,2,0)),"") -> total_billed_therms | H8: =IFERROR(IF(VLOOKUP($O8,Lookup!$G$1:$I$182,3,0)="","",VLOOKUP($O8,Lookup!$G$1:$I$182,3,0)),"") -> total_adjusted_therms | I8: =IFERROR(IF(VLOOKUP(O8,Lookup!$A$1:$B$200,2,0)="","",VLOOKUP(O8,Lookup!$A$1:$B$200,2,0)),"") -> THERM_DELIVERY_TIER1 | L8: =D8&" "&IFERROR(IF(VLOOKUP(O8,Lookup!$D$1:$E$201,2,0)="","",VLOOKUP(O8,Lookup!$D$1:$E$201,2,0)),"") -> GRRES | O8: Delivery Charge, per Therm | P8: =VLOOKUP(E8,'UNSG - ALL RATES'!$A$2:$DF$83,MATCH($I8,'UNSG - ALL RATES'!$A$3:$DF$3,0),0) -> 0.3434 | Q8: =VLOOKUP($C8&$D8,'[4]Billed Annual Billing Det'!$A$2:$N$16,5,0) -> 81711283 | R8: =$P8*Q8 -> 28059655 | T8: =VLOOKUP($C8&$D8,'[4]Adjusted Annual Billing Det'!$A$2:$L$16,5,0) -> 81350019 | U8: =$P8*T8 -> 27935597 | W8: =VLOOKUP(F8,'UNSG - ALL RATES'!$A$2:$CG$83,MATCH($I8,'UNSG - ALL RATES'!$A$3:$CG$3,0),0) -> 0.3801 | X8: =VLOOKUP($C8&$D8,'[4]Proposed Annual Billing Det'!$A$2:$N$16,5,0) -> 81350797 | Y8: =$W8*X8 -> 30921438
A9: 41030 | B9: ='UNSG - ALL RATES'!$B$25 -> 46082 | C9: =C8 -> 5751 | D9: =IF(N9="",D8,IF(N10<>D8,N9)) -> GRRES | E9: =IF(D9="","",A9&$D9) -> 41030GRRES | F9: =IF(E9="","",B9&$D9) -> 46082GRRES | G9: =IFERROR(IF(VLOOKUP($O9,Lookup!$G$1:$I$182,2,0)="","",VLOOKUP($O9,Lookup!$G$1:$I$182,2,0)),"") | H9: =IFERROR(IF(VLOOKUP($O9,Lookup!$G$1:$I$182,3,0)="","",VLOOKUP($O9,Lookup!$G$1:$I$182,3,0)),"") | I9: =IFERROR(IF(VLOOKUP(O9,Lookup!$A$1:$B$200,2,0)="","",VLOOKUP(O9,Lookup!$A$1:$B$200,2,0)),"") | J9: =C9&D9&G9 -> 5751GRRES | K9: =C9&D9&H9 -> 5751GRRES | L9: =D9&" "&IFERROR(IF(VLOOKUP(O9,Lookup!$D$1:$E$201,2,0)="","",VLOOKUP(O9,Lookup!$D$1:$E$201,2,0)),"") -> GRRES Margin Revenues | O9: Subtotal Delivery (Margin) Revenue | R9: =SUM(R6:R8) -> 46104215 | U9: =SUM(U6:U8) -> 46077033 | Y9: =SUM(Y6:Y8) -> 52582599
A10: 41030 | B10: ='UNSG - ALL RATES'!$B$25 -> 46082 | C10: =C9 -> 5751 | D10: =IF(N10="",D9,IF(N11<>D9,N10)) -> GRRES | E10: =IF(D10="","",A10&$D10) -> 41030GRRES | F10: =IF(E10="","",B10&$D10) -> 46082GRRES | G10: =IFERROR(IF(VLOOKUP($O10,Lookup!$G$1:$I$182,2,0)="","",VLOOKUP($O10,Lookup!$G$1:$I$182,2,0)),"") | H10: =IFERROR(IF(VLOOKUP($O10,Lookup!$G$1:$I$182,3,0)="","",VLOOKUP($O10,Lookup!$G$1:$I$182,3,0)),"") | I10: =IFERROR(IF(VLOOKUP(O10,Lookup!$A$1:$B$200,2,0)="","",VLOOKUP(O10,Lookup!$A$1:$B$200,2,0)),"") | J10: =C10&D10&G10 -> 5751GRRES | K10: =C10&D10&H10 -> 5751GRRES | L10: =D10&" "&IFERROR(IF(VLOOKUP(O10,Lookup!$D$1:$E$201,2,0)="","",VLOOKUP(O10,Lookup!$D$1:$E$201,2,0)),"") -> GRRES Sales (T) | O10: Sales (T) | Q10: =Q8 -> 81711283 | T10: =T8 -> 81350019 | X10: =X8 -> 81350797
A11: 41030 | B11: ='UNSG - ALL RATES'!$B$25 -> 46082 | C11: =C10 -> 5751 | D11: =IF(N11="",D10,IF(N12<>D10,N11)) -> GRRES | E11: =IF(D11="","",A11&$D11) -> 41030GRRES | F11: =IF(E11="","",B11&$D11) -> 46082GRRES | G11: =IFERROR(IF(VLOOKUP($O11,Lookup!$G$1:$I$182,2,0)="","",VLOOKUP($O11,Lookup!$G$1:$I$182,2,0)),"") | H11: =IFERROR(IF(VLOOKUP($O11,Lookup!$G$1:$I$182,3,0)="","",VLOOKUP($O11,Lookup!$G$1:$I$182,3,0)),"") | I11: =IFERROR(IF(VLOOKUP(O11,Lookup!$A$1:$B$200,2,0)="","",VLOOKUP(O11,Lookup!$A$1:$B$200,2,0)),"") | J11: =C11&D11&G11 -> 5751GRRES | K11: =C11&D11&H11 -> 5751GRRES | L11: =D11&" "&IFERROR(IF(VLOOKUP(O11,Lookup!$D$1:$E$201,2,0)="","",VLOOKUP(O11,Lookup!$D$1:$E$201,2,0)),"") -> GRRES
A12: 41030 | B12: ='UNSG - ALL RATES'!$B$25 -> 46082 | C12: =M12 -> 5752 | D12: =IF(N12="",D11,IF(N13<>D11,N12)) -> GRRESC | E12: =IF(D12="","",A12&$D12) -> 41030GRRESC | F12: =IF(E12="","",B12&$D12) -> 46082GRRESC | G12: =IFERROR(IF(VLOOKUP($O12,Lookup!$G$1:$I$182,2,0)="","",VLOOKUP($O12,Lookup!$G$1:$I$182,2,0)),"") | H12: =IFERROR(IF(VLOOKUP($O12,Lookup!$G$1:$I$182,3,0)="","",VLOOKUP($O12,Lookup!$G$1:$I$182,3,0)),"") | I12: =IFERROR(IF(VLOOKUP(O12,Lookup!$A$1:$B$200,2,0)="","",VLOOKUP(O12,Lookup!$A$1:$B$200,2,0)),"") | J12: =C12&D12&G12 -> 5752GRRESC | K12: =C12&D12&H12 -> 5752GRRESC | L12: =D12&" "&IFERROR(IF(VLOOKUP(O12,Lookup!$D$1:$E$201,2,0)="","",VLOOKUP(O12,Lookup!$D$1:$E$201,2,0)),"") -> GRRESC | M12: =VLOOKUP(N12,'UNSG - ALL RATES'!$E$25:$F$41,2,0) -> 5752 | N12: ='UNSG - ALL RATES'!F16 -> GRRESC | O12: =VLOOKUP($N12,'UNSG - ALL RATES'!$F$2:$G$383,2,0) -> Residential CARES Gas Service
A13: 41030 | B13: ='UNSG - ALL RATES'!$B$25 -> 46082 | C13: =C12 -> 5752 | D13: =IF(N13="",D12,IF(N14<>D12,N13)) -> GRRESC | E13: =IF(D13="","",A13&$D13) -> 41030GRRESC | F13: =IF(E13="","",B13&$D13) -> 46082GRRESC | G13: =IFERROR(IF(VLOOKUP($O13,Lookup!$G$1:$I$182,2,0)="","",VLOOKUP($O13,Lookup!$G$1:$I$182,2,0)),"") -> total_bill_count | H13: =IFERROR(IF(VLOOKUP($O13,Lookup!$G$1:$I$182,3,0)="","",VLOOKUP($O13,Lookup!$G$1:$I$182,3,0)),"") -> total_adjusted_bill_count | I13: =IFERROR(IF(VLOOKUP(O13,Lookup!$A$1:$B$200,2,0)="","",VLOOKUP(O13,Lookup!$A$1:$B$200,2,0)),"") -> BASIC_SERVICE_CHARGE | J13: =C13&D13&G13 -> 5752GRRESCtotal_bill_count | K13: =C13&D13&H13 -> 5752GRRESCtotal_adjusted_bill_count | L13: =D13&" "&IFERROR(IF(VLOOKUP(O13,Lookup!$D$1:$E$201,2,0)="","",VLOOKUP(O13,Lookup!$D$1:$E$201,2,0)),"") -> GRRESC Basic Service Charges | O13: Basic Service Charge Per Month | P13: 10 | Q13: =VLOOKUP($C13&$D13,'[4]Billed Annual Billing Det'!$A$2:$N$16,4,0) -> 73604 | R13: =$P13*Q13 -> 736040 | T13: =VLOOKUP($C13&$D13,'[4]Adjusted Annual Billing Det'!$A$2:$L$16,4,0) -> 69685.695 | U13: =$P13*T13 -> 696856.95 | W13: =VLOOKUP(F13,'UNSG - ALL RATES'!$A$2:$CG$83,MATCH($I13,'UNSG - ALL RATES'!$A$3:$CG$3,0),0) -> 11.94 | X13: =VLOOKUP($C13&$D13,'[4]Proposed Annual Billing Det'!$A$2:$N$16,4,0) -> 69685.695 | Y13: =$W13*X13 -> 832047.2
A14: 41030 | B14: ='UNSG - ALL RATES'!$B$25 -> 46082 | C14: =C13 -> 5752 | D14: =IF(N14="",D13,IF(N15<>D13,N14)) -> GRRESC | E14: =IF(D14="","",A14&$D14) -> 41030GRRESC | F14: =IF(E14="","",B14&$D14) -> 46082GRRESC | G14: =IFERROR(IF(VLOOKUP($O14,Lookup!$G$1:$I$182,2,0)="","",VLOOKUP($O14,Lookup!$G$1:$I$182,2,0)),"") | H14: =IFERROR(IF(VLOOKUP($O14,Lookup!$G$1:$I$182,3,0)="","",VLOOKUP($O14,Lookup!$G$1:$I$182,3,0)),"") | I14: =IFERROR(IF(VLOOKUP(O14,Lookup!$A$1:$B$200,2,0)="","",VLOOKUP(O14,Lookup!$A$1:$B$200,2,0)),"") -> LFCR_FIXED_UNSG | J14: =C14&D14&G14 -> 5752GRRESC | K14: =C14&D14&H14 -> 5752GRRESC | L14: =D14&" "&IFERROR(IF(VLOOKUP(O14,Lookup!$D$1:$E$201,2,0)="","",VLOOKUP(O14,Lookup!$D$1:$E$201,2,0)),"") -> GRRESC | O14: Basic Service Charge Per Month Adder, w/ LFCR | P14: =VLOOKUP(E14,'UNSG - ALL RATES'!$A$2:$CG$83,MATCH($I14,'UNSG - ALL RATES'!$A$3:$CG$3,0),0) -> 1.5 | Q14: 0 | R14: =$P14*Q14 -> 0 | T14: 0 | U14: =$P14*T14 -> 0 | W14: =VLOOKUP(F14,'UNSG - ALL RATES'!$A$2:$CG$83,MATCH($I14,'UNSG - ALL RATES'!$A$3:$CG$3,0),0) -> 0 | X14: 0 | Y14: =$W14*X14 -> 0
A15: 41030 | B15: ='UNSG - ALL RATES'!$B$25 -> 46082 | C15: =C14 -> 5752 | D15: =IF(N15="",D14,IF(#REF!<>D14,N15)) -> GRRESC | E15: =IF(D15="","",A15&$D15) -> 41030GRRESC | F15: =IF(E15="","",B15&$D15) -> 46082GRRESC | G15: =IFERROR(IF(VLOOKUP($O15,Lookup!$G$1:$I$182,2,0)="","",VLOOKUP($O15,Lookup!$G$1:$I$182,2,0)),"") -> total_billed_therms | H15: =IFERROR(IF(VLOOKUP($O15,Lookup!$G$1:$I$182,3,0)="","",VLOOKUP($O15,Lookup!$G$1:$I$182,3,0)),"") -> total_adjusted_therms | I15: =IFERROR(IF(VLOOKUP(O15,Lookup!$A$1:$B$200,2,0)="","",VLOOKUP(O15,Lookup!$A$1:$B$200,2,0)),"") -> THERM_DELIVERY_TIER1 | J15: =C15&D15&G15 -> 5752GRRESCtotal_billed_therms | K15: =C15&D15&H15 -> 5752GRRESCtotal_adjusted_therms | L15: =D15&" "&IFERROR(IF(VLOOKUP(O15,Lookup!$D$1:$E$201,2,0)="","",VLOOKUP(O15,Lookup!$D$1:$E$201,2,0)),"") -> GRRESC | O15: Delivery Charge, per Therm | P15: =VLOOKUP(E15,'UNSG - ALL RATES'!$A$2:$DF$83,MATCH($I15,'UNSG - ALL RATES'!$A$3:$DF$3,0),0) -> 0.3434 | Q15: =VLOOKUP($C15&$D15,'[4]Billed Annual Billing Det'!$A$2:$N$16,5,0) -> 2710566 | R15: =$P15*Q15 -> 930808.36 | T15: =VLOOKUP($C15&$D15,'[4]Adjusted Annual Billing Det'!$A$2:$L$16,5,0) -> 2494386.7 | U15: =$P15*T15 -> 856572.4 | W15: =VLOOKUP(F15,'UNSG - ALL RATES'!$A$2:$CG$83,MATCH($I15,'UNSG - ALL RATES'!$A$3:$CG$3,0),0) -> 0.3801 | X15: =VLOOKUP($C15&$D15,'[4]Proposed Annual Billing Det'!$A$2:$N$16,5,0) -> 2494386.7 | Y15: =$W15*X15 -> 948116.39
A16: 41030 | B16: ='UNSG - ALL RATES'!$B$25 -> 46082 | C16: =C15 -> 5752 | D16: =IF(N16="",D15,IF(#REF!<>D15,N16)) -> GRRESC | E16: =IF(D16="","",A16&$D16) -> 41030GRRESC | F16: =IF(E16="","",B16&$D16) -> 46082GRRESC | G16: =IFERROR(IF(VLOOKUP($O16,Lookup!$G$1:$I$182,2,0)="","",VLOOKUP($O16,Lookup!$G$1:$I$182,2,0)),"") | H16: =IFERROR(IF(VLOOKUP($O16,Lookup!$G$1:$I$182,3,0)="","",VLOOKUP($O16,Lookup!$G$1:$I$182,3,0)),"") | I16: =IFERROR(IF(VLOOKUP(O16,Lookup!$A$1:$B$200,2,0)="","",VLOOKUP(O16,Lookup!$A$1:$B$200,2,0)),"") | J16: =C16&D16&G16 -> 5752GRRESC | K16: =C16&D16&H16 -> 5752GRRESC | O16: Discounted Delivery | R16: ='[4]Billed Annual Billing Det'!$L$13 -> -511950.6 | Y16: 0
A17: 41030 | B17: ='UNSG - ALL RATES'!$B$25 -> 46082 | C17: =C16 -> 5752 | D17: =IF(N17="",D16,IF(N18<>D16,N17)) -> GRRESC | E17: =IF(D17="","",A17&$D17) -> 41030GRRESC | F17: =IF(E17="","",B17&$D17) -> 46082GRRESC | G17: =IFERROR(IF(VLOOKUP($O17,Lookup!$G$1:$I$182,2,0)="","",VLOOKUP($O17,Lookup!$G$1:$I$182,2,0)),"") | H17: =IFERROR(IF(VLOOKUP($O17,Lookup!$G$1:$I$182,3,0)="","",VLOOKUP($O17,Lookup!$G$1:$I$182,3,0)),"") | I17: =IFERROR(IF(VLOOKUP(O17,Lookup!$A$1:$B$200,2,0)="","",VLOOKUP(O17,Lookup!$A$1:$B$200,2,0)),"") | L17: =D17&" "&IFERROR(IF(VLOOKUP(O17,Lookup!$D$1:$E$201,2,0)="","",VLOOKUP(O17,Lookup!$D$1:$E$201,2,0)),"") -> GRRESC Margin Revenues | O17: Subtotal Delivery (Margin) Revenue | R17: =SUM(R13:R16) -> 1154897.8 | U17: =SUM(U13:U16) -> 1553429.4 | Y17: =SUM(Y13:Y16) -> 1780163.6
A18: 41030 | B18: ='UNSG - ALL RATES'!$B$25 -> 46082 | C18: =C17 -> 5752 | D18: =IF(N18="",D17,IF(N19<>D17,N18)) -> GRRESC | E18: =IF(D18="","",A18&$D18) -> 41030GRRESC | F18: =IF(E18="","",B18&$D18) -> 46082GRRESC | G18: =IFERROR(IF(VLOOKUP($O18,Lookup!$G$1:$I$182,2,0)="","",VLOOKUP($O18,Lookup!$G$1:$I$182,2,0)),"") | H18: =IFERROR(IF(VLOOKUP($O18,Lookup!$G$1:$I$182,3,0)="","",VLOOKUP($O18,Lookup!$G$1:$I$182,3,0)),"") | I18: =IFERROR(IF(VLOOKUP(O18,Lookup!$A$1:$B$200,2,0)="","",VLOOKUP(O18,Lookup!$A$1:$B$200,2,0)),"") | J18: =C18&D18&G18 -> 5752GRRESC | K18: =C18&D18&H18 -> 5752GRRESC | L18: =D18&" "&IFERROR(IF(VLOOKUP(O18,Lookup!$D$1:$E$201,2,0)="","",VLOOKUP(O18,Lookup!$D$1:$E$201,2,0)),"") -> GRRESC Sales (T) | O18: Sales (T) | Q18: =SUM(Q15:Q15) -> 2710566 | T18: =SUM(T15:T15) -> 2494386.7 | X18: =SUM(X15:X15) -> 2494386.7
A19: 41030 | B19: ='UNSG - ALL RATES'!$B$25 -> 46082 | C19: =M12 -> 5752 | D19: =IF(N19="",D18,IF(N20<>D18,N19)) -> GRRESC | E19: =IF(D19="","",A19&$D19) -> 41030GRRESC | F19: =IF(E19="","",B19&$D19) -> 46082GRRESC | G19: =IFERROR(IF(VLOOKUP($O19,Lookup!$G$1:$I$182,2,0)="","",VLOOKUP($O19,Lookup!$G$1:$I$182,2,0)),"") | H19: =IFERROR(IF(VLOOKUP($O19,Lookup!$G$1:$I$182,3,0)="","",VLOOKUP($O19,Lookup!$G$1:$I$182,3,0)),"") | I19: =IFERROR(IF(VLOOKUP(O19,Lookup!$A$1:$B$200,2,0)="","",VLOOKUP(O19,Lookup!$A$1:$B$200,2,0)),"") | J19: =C19&D19&G19 -> 5752GRRESC | K19: =C19&D19&H19 -> 5752GRRESC | L19: =D19&" "&IFERROR(IF(VLOOKUP(O19,Lookup!$D$1:$E$201,2,0)="","",VLOOKUP(O19,Lookup!$D$1:$E$201,2,0)),"") -> GRRESC
A20: 41030 | B20: ='UNSG - ALL RATES'!$B$25 -> 46082 | C20: =M20 -> 5753 | D20: =IF(N20="",D19,IF(N21<>D19,N20)) -> GGSVS | E20: =IF(D20="","",A20&$D20) -> 41030GGSVS | F20: =IF(E20="","",B20&$D20) -> 46082GGSVS | G20: =IFERROR(IF(VLOOKUP($O20,Lookup!$G$1:$I$182,2,0)="","",VLOOKUP($O20,Lookup!$G$1:$I$182,2,0)),"") | H20: =IFERROR(IF(VLOOKUP($O20,Lookup!$G$1:$I$182,3,0)="","",VLOOKUP($O20,Lookup!$G$1:$I$182,3,0)),"") | I20: =IFERROR(IF(VLOOKUP(O20,Lookup!$A$1:$B$200,2,0)="","",VLOOKUP(O20,Lookup!$A$1:$B$200,2,0)),"") | J20: =C20&D20&G20 -> 5753GGSVS | K20: =C20&D20&H20 -> 5753GGSVS | L20: =D20&" "&IFERROR(IF(VLOOKUP(O20,Lookup!$D$1:$E$201,2,0)="","",VLOOKUP(O20,Lookup!$D$1:$E$201,2,0)),"") -> GGSVS | M20: =VLOOKUP(N20,'UNSG - ALL RATES'!$E$25:$F$41,2,0) -> 5753 | N20: ='UNSG - ALL RATES'!F4 -> GGSVS | O20: =VLOOKUP($N20,'UNSG - ALL RATES'!$F$2:$G$383,2,0) -> Small Volume Commercial Service
A21: 41030 | B21: ='UNSG - ALL RATES'!$B$25 -> 46082 | C21: =C20 -> 5753 | D21: =IF(N21="",D20,IF(N22<>D20,N21)) -> GGSVS | E21: =IF(D21="","",A21&$D21) -> 41030GGSVS | F21: =IF(E21="","",B21&$D21) -> 46082GGSVS | G21: =IFERROR(IF(VLOOKUP($O21,Lookup!$G$1:$I$182,2,0)="","",VLOOKUP($O21,Lookup!$G$1:$I$182,2,0)),"") -> total_bill_count | H21: =IFERROR(IF(VLOOKUP($O21,Lookup!$G$1:$I$182,3,0)="","",VLOOKUP($O21,Lookup!$G$1:$I$182,3,0)),"") -> total_adjusted_bill_count | I21: =IFERROR(IF(VLOOKUP(O21,Lookup!$A$1:$B$200,2,0)="","",VLOOKUP(O21,Lookup!$A$1:$B$200,2,0)),"") -> BASIC_SERVICE_CHARGE | J21: =C21&D21&G21 -> 5753GGSVStotal_bill_count | K21: =C21&D21&H21 -> 5753GGSVStotal_adjusted_bill_count | L21: =D21&" "&IFERROR(IF(VLOOKUP(O21,Lookup!$D$1:$E$201,2,0)="","",VLOOKUP(O21,Lookup!$D$1:$E$201,2,0)),"") -> GGSVS Basic Service Charges | O21: Basic Service Charge Per Month | P21: =VLOOKUP(E21,'UNSG - ALL RATES'!$A$2:$CG$83,MATCH($I21,'UNSG - ALL RATES'!$A$3:$CG$3,0),0) -> 20 | Q21: =VLOOKUP($C21&$D21,'[4]Billed Annual Billing Det'!$A$2:$N$16,4,0) -> 146178 | R21: =$P21*Q21 -> 2923560 | T21: =VLOOKUP($C21&$D21,'[4]Adjusted Annual Billing Det'!$A$2:$L$16,4,0) -> 146536.54 | U21: =$P21*T21 -> 2930730.8 | W21: =VLOOKUP(F21,'UNSG - ALL RATES'!$A$2:$CG$83,MATCH($I21,'UNSG - ALL RATES'!$A$3:$CG$3,0),0) -> 28.32 | X21: =VLOOKUP($C21&$D21,'[4]Proposed Annual Billing Det'!$A$2:$N$16,4,0) -> 159201.41 | Y21: =$W21*X21 -> 4508583.9
A22: 41030 | B22: ='UNSG - ALL RATES'!$B$25 -> 46082 | C22: =C21 -> 5753 | D22: =IF(N22="",D21,IF(#REF!<>D21,N22)) -> GGSVS | E22: =IF(D22="","",A22&$D22) -> 41030GGSVS | F22: =IF(E22="","",B22&$D22) -> 46082GGSVS | G22: =IFERROR(IF(VLOOKUP($O22,Lookup!$G$1:$I$182,2,0)="","",VLOOKUP($O22,Lookup!$G$1:$I$182,2,0)),"") -> total_billed_therms | H22: =IFERROR(IF(VLOOKUP($O22,Lookup!$G$1:$I$182,3,0)="","",VLOOKUP($O22,Lookup!$G$1:$I$182,3,0)),"") -> total_adjusted_therms | I22: =IFERROR(IF(VLOOKUP(O22,Lookup!$A$1:$B$200,2,0)="","",VLOOKUP(O22,Lookup!$A$1:$B$200,2,0)),"") -> THERM_DELIVERY_TIER1 | J22: =C22&D22&G22 -> 5753GGSVStotal_billed_therms | K22: =C22&D22&H22 -> 5753GGSVStotal_adjusted_therms | L22: =D22&" "&IFERROR(IF(VLOOKUP(O22,Lookup!$D$1:$E$201,2,0)="","",VLOOKUP(O22,Lookup!$D$1:$E$201,2,0)),"") -> GGSVS | O22: Delivery Charge, per Therm | P22: =VLOOKUP(E22,'UNSG - ALL RATES'!$A$2:$CG$83,MATCH($I22,'UNSG - ALL RATES'!$A$3:$CG$3,0),0) -> 0.2837 | Q22: =VLOOKUP($C22&$D22,'[4]Billed Annual Billing Det'!$A$2:$N$16,5,0) -> 33936462 | R22: =$P22*Q22 -> 9627774.3 | T22: =VLOOKUP($C22&$D22,'[4]Adjusted Annual Billing Det'!$A$2:$L$16,5,0) -> 33757920 | U22: =$P22*T22 -> 9577122 | W22: =VLOOKUP(F22,'UNSG - ALL RATES'!$A$2:$CG$83,MATCH($I22,'UNSG - ALL RATES'!$A$3:$CG$3,0),0) -> 0.3134 | X22: =VLOOKUP($C22&$D22,'[4]Proposed Annual Billing Det'!$A$2:$N$16,5,0) -> 36221648 | Y22: =$W22*X22 -> 11351865
A23: 41030 | B23: ='UNSG - ALL RATES'!$B$25 -> 46082 | C23: =C22 -> 5753 | D23: =IF(N23="",D22,IF(N24<>D22,N23)) -> GGSVS | E23: =IF(D23="","",A23&$D23) -> 41030GGSVS | F23: =IF(E23="","",B23&$D23) -> 46082GGSVS | G23: =IFERROR(IF(VLOOKUP($O23,Lookup!$G$1:$I$182,2,0)="","",VLOOKUP($O23,Lookup!$G$1:$I$182,2,0)),"") | H23: =IFERROR(IF(VLOOKUP($O23,Lookup!$G$1:$I$182,3,0)="","",VLOOKUP($O23,Lookup!$G$1:$I$182,3,0)),"") | I23: =IFERROR(IF(VLOOKUP(O23,Lookup!$A$1:$B$200,2,0)="","",VLOOKUP(O23,Lookup!$A$1:$B$200,2,0)),"") | J23: =C23&D23&G23 -> 5753GGSVS | K23: =C23&D23&H23 -> 5753GGSVS | L23: =D23&" "&IFERROR(IF(VLOOKUP(O23,Lookup!$D$1:$E$201,2,0)="","",VLOOKUP(O23,Lookup!$D$1:$E$201,2,0)),"") -> GGSVS Margin Revenues | O23: Subtotal Delivery (Margin) Revenue | R23: =SUM(R21:R22) -> 12551334 | U23: =SUM(U21:U22) -> 12507853 | Y23: =SUM(Y21:Y22) -> 15860448
A24: 41030 | B24: ='UNSG - ALL RATES'!$B$25 -> 46082 | C24: =C23 -> 5753 | D24: =IF(N24="",D23,IF(N25<>D23,N24)) -> GGSVS | E24: =IF(D24="","",A24&$D24) -> 41030GGSVS | F24: =IF(E24="","",B24&$D24) -> 46082GGSVS | G24: =IFERROR(IF(VLOOKUP($O24,Lookup!$G$1:$I$182,2,0)="","",VLOOKUP($O24,Lookup!$G$1:$I$182,2,0)),"") | H24: =IFERROR(IF(VLOOKUP($O24,Lookup!$G$1:$I$182,3,0)="","",VLOOKUP($O24,Lookup!$G$1:$I$182,3,0)),"") | I24: =IFERROR(IF(VLOOKUP(O24,Lookup!$A$1:$B$200,2,0)="","",VLOOKUP(O24,Lookup!$A$1:$B$200,2,0)),"") | J24: =C24&D24&G24 -> 5753GGSVS | K24: =C24&D24&H24 -> 5753GGSVS | L24: =D24&" "&IFERROR(IF(VLOOKUP(O24,Lookup!$D$1:$E$201,2,0)="","",VLOOKUP(O24,Lookup!$D$1:$E$201,2,0)),"") -> GGSVS Sales (T) | O24: Sales (T) | Q24: =Q22 -> 33936462 | T24: =T22 -> 33757920 | X24: =X22 -> 36221648
A25: 41030 | B25: ='UNSG - ALL RATES'!$B$25 -> 46082 | C25: =C24 -> 5753 | D25: =IF(N25="",D24,IF(N26<>D24,N25)) -> GGSVS | E25: =IF(D25="","",A25&$D25) -> 41030GGSVS | F25: =IF(E25="","",B25&$D25) -> 46082GGSVS | G25: =IFERROR(IF(VLOOKUP($O25,Lookup!$G$1:$I$182,2,0)="","",VLOOKUP($O25,Lookup!$G$1:$I$182,2,0)),"") | H25: =IFERROR(IF(VLOOKUP($O25,Lookup!$G$1:$I$182,3,0)="","",VLOOKUP($O25,Lookup!$G$1:$I$182,3,0)),"") | I25: =IFERROR(IF(VLOOKUP(O25,Lookup!$A$1:$B$200,2,0)="","",VLOOKUP(O25,Lookup!$A$1:$B$200,2,0)),"") | J25: =C25&D25&G25 -> 5753GGSVS | K25: =C25&D25&H25 -> 5753GGSVS | L25: =D25&" "&IFERROR(IF(VLOOKUP(O25,Lookup!$D$1:$E$201,2,0)="","",VLOOKUP(O25,Lookup!$D$1:$E$201,2,0)),"") -> GGSVS
A26: 41030 | B26: ='UNSG - ALL RATES'!$B$25 -> 46082 | C26: =M26 -> 5758 | D26: =IF(N26="",D25,IF(N27<>D25,N26)) -> GISVS | E26: =IF(D26="","",A26&$D26) -> 41030GISVS | F26: =IF(E26="","",B26&$D26) -> 46082GISVS | G26: =IFERROR(IF(VLOOKUP($O26,Lookup!$G$1:$I$182,2,0)="","",VLOOKUP($O26,Lookup!$G$1:$I$182,2,0)),"") | H26: =IFERROR(IF(VLOOKUP($O26,Lookup!$G$1:$I$182,3,0)="","",VLOOKUP($O26,Lookup!$G$1:$I$182,3,0)),"") | I26: =IFERROR(IF(VLOOKUP(O26,Lookup!$A$1:$B$200,2,0)="","",VLOOKUP(O26,Lookup!$A$1:$B$200,2,0)),"") | J26: =C26&D26&G26 -> 5758GISVS | K26: =C26&D26&H26 -> 5758GISVS | L26: =D26&" "&IFERROR(IF(VLOOKUP(O26,Lookup!$D$1:$E$201,2,0)="","",VLOOKUP(O26,Lookup!$D$1:$E$201,2,0)),"") -> GISVS | M26: =VLOOKUP(N26,'UNSG - ALL RATES'!$E$25:$F$41,2,0) -> 5758 | N26: ='UNSG - ALL RATES'!F10 -> GISVS | O26: =VLOOKUP($N26,'UNSG - ALL RATES'!$F$2:$G$383,2,0) -> Small Volume Industrial Service
A27: 41030 | B27: ='UNSG - ALL RATES'!$B$25 -> 46082 | C27: =M26 -> 5758 | D27: =IF(N27="",D26,IF(N28<>D26,N27)) -> GISVS | E27: =IF(D27="","",A27&$D27) -> 41030GISVS | F27: =IF(E27="","",B27&$D27) -> 46082GISVS | G27: =IFERROR(IF(VLOOKUP($O27,Lookup!$G$1:$I$182,2,0)="","",VLOOKUP($O27,Lookup!$G$1:$I$182,2,0)),"") -> total_bill_count | H27: =IFERROR(IF(VLOOKUP($O27,Lookup!$G$1:$I$182,3,0)="","",VLOOKUP($O27,Lookup!$G$1:$I$182,3,0)),"") -> total_adjusted_bill_count | I27: =IFERROR(IF(VLOOKUP(O27,Lookup!$A$1:$B$200,2,0)="","",VLOOKUP(O27,Lookup!$A$1:$B$200,2,0)),"") -> BASIC_SERVICE_CHARGE | J27: =C27&D27&G27 -> 5758GISVStotal_bill_count | K27: =C27&D27&H27 -> 5758GISVStotal_adjusted_bill_count | L27: =D27&" "&IFERROR(IF(VLOOKUP(O27,Lookup!$D$1:$E$201,2,0)="","",VLOOKUP(O27,Lookup!$D$1:$E$201,2,0)),"") -> GISVS Basic Service Charges | O27: Basic Service Charge Per Month | P27: =VLOOKUP(E27,'UNSG - ALL RATES'!$A$2:$CG$83,MATCH($I27,'UNSG - ALL RATES'!$A$3:$CG$3,0),0) -> 20 | Q27: =VLOOKUP($C27&$D27,'[4]Billed Annual Billing Det'!$A$2:$N$16,4,0) -> 267 | R27: =$P27*Q27 -> 5340 | T27: =VLOOKUP($C27&$D27,'[4]Adjusted Annual Billing Det'!$A$2:$L$16,4,0) -> 277.10433 | U27: =$P27*T27 -> 5542.0866 | W27: MOVED TO GGSVS
